BEGIN:VCALENDAR
VERSION:2.0
X-WR-CALNAME: AЯBA
PRODID:GIGPRESS 2.0 WORDPRESS PLUGIN
CALSCALE:GREGORIAN
X-WR-TIMEZONE:Etc/GMT
METHOD:PUBLISH
BEGIN:VTIMEZONE
TZID:GMT
BEGIN:STANDARD
DTSTART:20071028T010000
TZOFFSETTO:+0000
TZOFFSETFROM:+0000
END:STANDARD
END:VTIMEZONE
BEGIN:VEVENT
SUMMARY:להקת הפלמנקו הישראלית ב- תיאטרון ענבל
DESCRIPTION:שם המופע: AЯBA. 
LOCATION:תיאטרון ענבל\, תל אביב\, IL
UID:20260423T173000Z-709-dan@dmdesign.co.il
URL:https://flamenco.co.il
DTSTART;VALUE=DATE-TIME;TZID=GMT:20260423T173000Z
DTEND;VALUE=DATE-TIME;TZID=GMT:20260423T173000Z
DTSTAMP:20260419T011742Z
END:VEVENT
BEGIN:VEVENT
SUMMARY:להקת הפלמנקו הישראלית ב- תיאטרון ענבל
DESCRIPTION:שם המופע: AЯBA. 
LOCATION:תיאטרון ענבל\, תל אביב\, IL
UID:20260612T110000Z-706-dan@dmdesign.co.il
URL:https://flamenco.co.il
DTSTART;VALUE=DATE-TIME;TZID=GMT:20260612T110000Z
DTEND;VALUE=DATE-TIME;TZID=GMT:20260612T110000Z
DTSTAMP:20260419T011742Z
END:VEVENT
END:VCALENDAR